BEGIN:VCALENDAR
VERSION:2.0
PRODID:-//SCLS//NONSGML v1.0//EN
METHOD:PUBLISH
BEGIN:VEVENT
DTSTART;TZID=America/New_York:20260427T170000
DTEND;TZID=America/New_York:20260427T181500
DTSTAMP:20260426T002730
CREATED:20260426T002730-14400
SUMMARY:Teen Volunteer Opportunity
DESCRIPTION:Provide support for Art Academy\, a program for kids in grades 1-6. Tasks could include\: distributing tickets\, checking-in patrons\, locating supplies\, guiding an activity\, set-up/clean-up.
URL:scls.digitalbranch.org/api/event_export_ics_controlle
LOCATION:Montgomery branch
UID:32575
END:VEVENT
END:VCALENDAR
