BEGIN:VCALENDAR
VERSION:2.0
PRODID:-//SCLS//NONSGML v1.0//EN
METHOD:PUBLISH
BEGIN:VEVENT
DTSTART;TZID=America/New_York:20260521T180000
DTEND;TZID=America/New_York:20260521T190000
DTSTAMP:20260423T132216
CREATED:20260423T132216-14400
SUMMARY:Three Centuries of Montgomery Township History
DESCRIPTION:Learn about the making of the quilt in 1976 and the history represented by the quilt squares. Some of the quilters will discuss their personal experiences with the creation of the quilt. 
URL:scls.digitalbranch.org/api/event_export_ics_controlle
LOCATION:Montgomery branch
UID:32500
END:VEVENT
END:VCALENDAR
