BEGIN:VCALENDAR
VERSION:2.0
PRODID:-//SCLS//NONSGML v1.0//EN
METHOD:PUBLISH
BEGIN:VEVENT
DTSTART;TZID=America/New_York:20260817T180000
DTEND;TZID=America/New_York:20260817T193000
DTSTAMP:20260423T114421
CREATED:20260423T114421-14400
SUMMARY:Navigating Housing - Central Jersey Housing Resource Center
DESCRIPTION:Take control of your housing future! This seminar will focus on rental laws\, rights and responsibilities\, and the path to affordable homeownership. 
URL:scls.digitalbranch.org/api/event_export_ics_controlle
LOCATION:Bridgewater branch
UID:32305
END:VEVENT
END:VCALENDAR
