BEGIN:VCALENDAR
VERSION:2.0
PRODID:-//SCLS//NONSGML v1.0//EN
METHOD:PUBLISH
BEGIN:VEVENT
DTSTART;TZID=America/New_York:20260622T180000
DTEND;TZID=America/New_York:20260622T191500
DTSTAMP:20260423T114427
CREATED:20260423T114427-14400
SUMMARY:Financial Literacy - Central Jersey Housing Resource Center
DESCRIPTION:CJHRC will provide information about budgeting\, building credit\, addressing credit issues\, debt-to-income ratio\, debt management\, and CJHRC's Savings Match program. 

URL:scls.digitalbranch.org/api/event_export_ics_controlle
LOCATION:Bridgewater branch
UID:32292
END:VEVENT
END:VCALENDAR
