BEGIN:VCALENDAR
VERSION:2.0
PRODID:-//SCLS//NONSGML v1.0//EN
METHOD:PUBLISH
BEGIN:VEVENT
DTSTART;TZID=America/New_York:20260615T180000
DTEND;TZID=America/New_York:20260615T193000
DTSTAMP:20260423T114421
CREATED:20260423T114421-14400
SUMMARY:Fair Housing with the Central Jersey Housing Resource Center
DESCRIPTION:CJHRC will provide information about The Fair Housing Act\, which includes all aspects of housing including sales\, advertising\, financing\, rental\, insurance\, and more.
URL:scls.digitalbranch.org/api/event_export_ics_controlle
LOCATION:Bridgewater branch
UID:32291
END:VEVENT
END:VCALENDAR
