BEGIN:VCALENDAR
VERSION:2.0
PRODID:-//SCLS//NONSGML v1.0//EN
METHOD:PUBLISH
BEGIN:VEVENT
DTSTART;TZID=America/New_York:20260422T100000
DTEND;TZID=America/New_York:20260422T120000
DTSTAMP:20260420T093505
CREATED:20260420T093505-14400
SUMMARY:Craft Studio Drop-in Hours
DESCRIPTION:Visit Hillsborough Branch's Craft Studio to use our sewing machines\, Cricut\, die cuts\, and more. Staff will be available to answer your basic questions or to book a time for a longer consultation.
URL:scls.digitalbranch.org/api/event_export_ics_controlle
LOCATION:Hillsborough branch
UID:32136
END:VEVENT
END:VCALENDAR
