BEGIN:VCALENDAR
VERSION:2.0
PRODID:-//SCLS//NONSGML v1.0//EN
METHOD:PUBLISH
BEGIN:VEVENT
DTSTART;TZID=America/New_York:20260422T110000
DTEND;TZID=America/New_York:20260422T120000
DTSTAMP:20260421T051903
CREATED:20260421T051903-14400
SUMMARY:Youth Outreach
DESCRIPTION:Storytime\, craft\, and checking out books.
URL:scls.digitalbranch.org/api/event_export_ics_controlle
LOCATION:Montgomery branch
UID:32106
END:VEVENT
END:VCALENDAR
