BEGIN:VCALENDAR
VERSION:2.0
PRODID:-//SCLS//NONSGML v1.0//EN
METHOD:PUBLISH
BEGIN:VEVENT
DTSTART;TZID=America/New_York:20260422T123000
DTEND;TZID=America/New_York:20260422T133000
DTSTAMP:20260421T053739
CREATED:20260421T053739-14400
SUMMARY:Youth Outreach
DESCRIPTION:Students with disabilities come to the library to learn and practice workplace skills (could include craft prep\, displays\, weeding\, cleaning\, etc.)
URL:scls.digitalbranch.org/api/event_export_ics_controlle
LOCATION:Montgomery branch
UID:32039
END:VEVENT
END:VCALENDAR
