BEGIN:VCALENDAR
VERSION:2.0
PRODID:-//SCLS//NONSGML v1.0//EN
METHOD:PUBLISH
BEGIN:VEVENT
DTSTART;TZID=America/New_York:20260421T140000
DTEND;TZID=America/New_York:20260421T144500
DTSTAMP:20260421T120537
CREATED:20260421T120537-14400
SUMMARY:Homeschool Hangout
DESCRIPTION:Meet other homeschoolers in the community
while enjoying a family-friendly activity. 
URL:scls.digitalbranch.org/api/event_export_ics_controlle
LOCATION:Manville branch
UID:31810
END:VEVENT
END:VCALENDAR
