BEGIN:VCALENDAR
VERSION:2.0
PRODID:-//SCLS//NONSGML v1.0//EN
METHOD:PUBLISH
BEGIN:VEVENT
DTSTART;TZID=America/New_York:20260604T180000
DTEND;TZID=America/New_York:20260604T190000
DTSTAMP:20260423T114533
CREATED:20260423T114533-14400
SUMMARY:Social Security & Retirement Income Planning Basics
DESCRIPTION:Learn the fundamentals of Social Security benefits and retirement planning. Designed for adults approaching or in retirement\, this session breaks down complex topics into clear\, practical information.
URL:scls.digitalbranch.org/api/event_export_ics_controlle
LOCATION:Bridgewater branch
UID:31800
END:VEVENT
END:VCALENDAR
