BEGIN:VCALENDAR
VERSION:2.0
PRODID:-//SCLS//NONSGML v1.0//EN
METHOD:PUBLISH
BEGIN:VEVENT
DTSTART;TZID=America/New_York:20260511T140000
DTEND;TZID=America/New_York:20260511T150000
DTSTAMP:20260421T222801
CREATED:20260421T222801-14400
SUMMARY:Chinese Good Luck Knot
DESCRIPTION:Learn how to tie your own Chinese Good Luck Knot.
URL:scls.digitalbranch.org/api/event_export_ics_controlle
LOCATION:Peapack and Gladstone branch
UID:31797
END:VEVENT
END:VCALENDAR
