BEGIN:VCALENDAR
VERSION:2.0
PRODID:-//SCLS//NONSGML v1.0//EN
METHOD:PUBLISH
BEGIN:VEVENT
DTSTART;TZID=America/New_York:20260421T170000
DTEND;TZID=America/New_York:20260421T180000
DTSTAMP:20260421T150427
CREATED:20260421T150427-14400
SUMMARY:T(w)een Knit/Crochet Club
DESCRIPTION:Learn basic knit and crochet skills and enjoy crafting with friends! Please BYO yarn and knitting needles/crochet hooks\, although some limited supplies will be available to borrow during the program.
URL:scls.digitalbranch.org/api/event_export_ics_controlle
LOCATION:Hillsborough branch
UID:31624
END:VEVENT
END:VCALENDAR
