BEGIN:VCALENDAR
VERSION:2.0
PRODID:-//SCLS//NONSGML v1.0//EN
METHOD:PUBLISH
BEGIN:VEVENT
DTSTART;TZID=America/New_York:20260421T110000
DTEND;TZID=America/New_York:20260421T113000
DTSTAMP:20260421T052656
CREATED:20260421T052656-14400
SUMMARY:Family Sing-Along
DESCRIPTION:Music helps little ones with emotional expression\, improve language and social skills\, and reduce stress. Join Becca for a casual family sing-along with classic pop and rock songs!
URL:scls.digitalbranch.org/api/event_export_ics_controlle
LOCATION:Hillsborough branch
UID:31623
END:VEVENT
END:VCALENDAR
