BEGIN:VCALENDAR
VERSION:2.0
PRODID:-//SCLS//NONSGML v1.0//EN
METHOD:PUBLISH
BEGIN:VEVENT
DTSTART;TZID=America/New_York:20260504T180000
DTEND;TZID=America/New_York:20260504T190000
DTSTAMP:20260423T114533
CREATED:20260423T114533-14400
SUMMARY:Estate Planning Seminar
DESCRIPTION:Carl G. Archer\, Esq. will break down the essential components of estate planning and explain how proactive planning can protect you\, your assets\, and the people you care about.
URL:scls.digitalbranch.org/api/event_export_ics_controlle
LOCATION:Hillsborough branch
UID:31562
END:VEVENT
END:VCALENDAR
