BEGIN:VCALENDAR
VERSION:2.0
PRODID:-//SCLS//NONSGML v1.0//EN
METHOD:PUBLISH
BEGIN:VEVENT
DTSTART;TZID=America/New_York:20260423T110000
DTEND;TZID=America/New_York:20260423T113000
DTSTAMP:20260424T090807
CREATED:20260424T090807-14400
SUMMARY:Preschool Storytime
DESCRIPTION:An interactive program that fosters early literacy skills through books\, songs\, and activities.
URL:scls.digitalbranch.org/api/event_export_ics_controlle
LOCATION:Hillsborough branch
UID:31555
END:VEVENT
END:VCALENDAR
