BEGIN:VCALENDAR
VERSION:2.0
PRODID:-//SCLS//NONSGML v1.0//EN
METHOD:PUBLISH
BEGIN:VEVENT
DTSTART;TZID=America/New_York:20260425T140000
DTEND;TZID=America/New_York:20260425T143000
DTSTAMP:20260423T114513
CREATED:20260423T114513-14400
SUMMARY:Paying for College
DESCRIPTION:Do you know the difference between a grant\, scholarship\, and education loan? Should you pursue subsidized\, unsubsidized\, or private loans?
URL:scls.digitalbranch.org/api/event_export_ics_controlle
LOCATION:Peapack and Gladstone branch
UID:31530
END:VEVENT
END:VCALENDAR
