BEGIN:VCALENDAR
VERSION:2.0
PRODID:-//SCLS//NONSGML v1.0//EN
METHOD:PUBLISH
BEGIN:VEVENT
DTSTART;TZID=America/New_York:20260424T153000
DTEND;TZID=America/New_York:20260424T170000
DTSTAMP:20260423T161143
CREATED:20260423T161143-14400
SUMMARY:Libraries Rock! National Library Week Rockstar Party
DESCRIPTION:Unleash your inner rockstar with us! Paint a rock for our Rock Garden\, enjoy tasty tour treats\, have your photo taken as a metal lord\, get a (temporary) tattoo\, and rock out to killer tunes.
URL:scls.digitalbranch.org/api/event_export_ics_controlle
LOCATION:Somerville branch
UID:31529
END:VEVENT
END:VCALENDAR
