BEGIN:VCALENDAR
VERSION:2.0
PRODID:-//SCLS//NONSGML v1.0//EN
METHOD:PUBLISH
BEGIN:VEVENT
DTSTART;TZID=America/New_York:20260423T180000
DTEND;TZID=America/New_York:20260423T190000
DTSTAMP:20260423T141932
CREATED:20260423T141932-14400
SUMMARY:Drop-In Chess 
DESCRIPTION:An hour of informal play. All skill levels welcome. Please note that this is not an instructional program - it is recommended that participants have a basic knowledge of chess.  
URL:scls.digitalbranch.org/api/event_export_ics_controlle
LOCATION:Hillsborough branch
UID:31306
END:VEVENT
END:VCALENDAR
