BEGIN:VCALENDAR
VERSION:2.0
PRODID:-//SCLS//NONSGML v1.0//EN
METHOD:PUBLISH
BEGIN:VEVENT
DTSTART;TZID=America/New_York:20260416T153000
DTEND;TZID=America/New_York:20260416T163000
DTSTAMP:20260424T122516
CREATED:20260424T122516-14400
SUMMARY:Culinary Creators: Fruit Rollup Sushi 
DESCRIPTION:Create cool food concoctions you can actually eat!
URL:scls.digitalbranch.org/api/event_export_ics_controlle
LOCATION:North Plainfield branch
UID:31301
END:VEVENT
END:VCALENDAR
