BEGIN:VCALENDAR
VERSION:2.0
PRODID:-//SCLS//NONSGML v1.0//EN
METHOD:PUBLISH
BEGIN:VEVENT
DTSTART;TZID=America/New_York:20260424T100000
DTEND;TZID=America/New_York:20260424T103000
DTSTAMP:20260423T133702
CREATED:20260423T133702-14400
SUMMARY:Youth Outreach
DESCRIPTION:First grade class tour of the library and storytime. 
URL:scls.digitalbranch.org/api/event_export_ics_controlle
LOCATION:Warren Township branch
UID:31249
END:VEVENT
END:VCALENDAR
