BEGIN:VCALENDAR
VERSION:2.0
PRODID:-//SCLS//NONSGML v1.0//EN
METHOD:PUBLISH
BEGIN:VEVENT
DTSTART;TZID=America/New_York:20260430T163000
DTEND;TZID=America/New_York:20260430T170000
DTSTAMP:20260423T114513
CREATED:20260423T114513-14400
SUMMARY:Stock & Bond Fundamentals
DESCRIPTION:Learn the different basic types of investments\, understand risk\, ways to become a smart investor\, how to establish investment goals and mistakes to avoid when becoming a first-time investor.
URL:scls.digitalbranch.org/api/event_export_ics_controlle
LOCATION:Watchung branch
UID:31169
END:VEVENT
END:VCALENDAR
