BEGIN:VCALENDAR
VERSION:2.0
PRODID:-//SCLS//NONSGML v1.0//EN
METHOD:PUBLISH
BEGIN:VEVENT
DTSTART;TZID=America/New_York:20260425T103000
DTEND;TZID=America/New_York:20260425T110000
DTSTAMP:20260421T035653
CREATED:20260421T035653-14400
SUMMARY:Savvy Savers: Learn with Sammy
DESCRIPTION:Learn great money habits. Enjoy stories\, songs\, and activities that build kids’ money\, reading\, writing\, thinking\, planning\, and goal-setting skills!
URL:scls.digitalbranch.org/api/event_export_ics_controlle
LOCATION:Warren Township branch
UID:31167
END:VEVENT
END:VCALENDAR
