BEGIN:VCALENDAR
VERSION:2.0
PRODID:-//SCLS//NONSGML v1.0//EN
METHOD:PUBLISH
BEGIN:VEVENT
DTSTART;TZID=America/New_York:20260421T160000
DTEND;TZID=America/New_York:20260421T163000
DTSTAMP:20260423T040925
CREATED:20260423T040925-14400
SUMMARY:Interview Tips to Land Your Next Job
DESCRIPTION:Learn how to prepare for job interviews\, what companies are looking for in candidates\, and how to negotiate a job offer.
URL:scls.digitalbranch.org/api/event_export_ics_controlle
LOCATION:North Plainfield branch
UID:31164
END:VEVENT
END:VCALENDAR
