BEGIN:VCALENDAR
VERSION:2.0
PRODID:-//SCLS//NONSGML v1.0//EN
METHOD:PUBLISH
BEGIN:VEVENT
DTSTART;TZID=America/New_York:20260423T133000
DTEND;TZID=America/New_York:20260423T153000
DTSTAMP:20260423T130514
CREATED:20260423T130514-14400
SUMMARY:In-Branch Movie - "Dangerous Liasons"
DESCRIPTION:A scheming widow and her manipulative ex-lover make a bet regarding the corruption of a recently married woman.
URL:scls.digitalbranch.org/api/event_export_ics_controlle
LOCATION:Warren Township branch
UID:30802
END:VEVENT
END:VCALENDAR
