BEGIN:VCALENDAR
VERSION:2.0
PRODID:-//SCLS//NONSGML v1.0//EN
METHOD:PUBLISH
BEGIN:VEVENT
DTSTART;TZID=America/New_York:20260424T110000
DTEND;TZID=America/New_York:20260424T120000
DTSTAMP:20260423T143015
CREATED:20260423T143015-14400
SUMMARY:Viewing Party
DESCRIPTION:In celebration of National Library Week\, explore the architectural history of the New York Public Library.
URL:scls.digitalbranch.org/api/event_export_ics_controlle
LOCATION:Warren Township branch
UID:30763
END:VEVENT
END:VCALENDAR
