BEGIN:VCALENDAR
VERSION:2.0
PRODID:-//SCLS//NONSGML v1.0//EN
METHOD:PUBLISH
BEGIN:VEVENT
DTSTART;TZID=America/New_York:20260422T150000
DTEND;TZID=America/New_York:20260422T170000
DTSTAMP:20260423T120153
CREATED:20260423T120153-14400
SUMMARY:Earth Day Craft
DESCRIPTION:Drop in between 3-5pm to make an Earth Day craft.  Parental supervision is required. 
URL:scls.digitalbranch.org/api/event_export_ics_controlle
LOCATION:Warren Township branch
UID:30760
END:VEVENT
END:VCALENDAR
