BEGIN:VCALENDAR
VERSION:2.0
PRODID:-//SCLS//NONSGML v1.0//EN
METHOD:PUBLISH
BEGIN:VEVENT
DTSTART;TZID=America/New_York:20260421T103000
DTEND;TZID=America/New_York:20260421T110000
DTSTAMP:20260421T050200
CREATED:20260421T050200-14400
SUMMARY:Baby Song and Rhyme Time 
DESCRIPTION:This interactive program is filled with brain building rhymes\, movement\, songs and stories. 
URL:scls.digitalbranch.org/api/event_export_ics_controlle
LOCATION:Warren Township branch
UID:30757
END:VEVENT
END:VCALENDAR
