BEGIN:VCALENDAR
VERSION:2.0
PRODID:-//SCLS//NONSGML v1.0//EN
METHOD:PUBLISH
BEGIN:VEVENT
DTSTART;TZID=America/New_York:20260421T163000
DTEND;TZID=America/New_York:20260421T171500
DTSTAMP:20260421T050506
CREATED:20260421T050506-14400
SUMMARY:Kids in the Kitchen
DESCRIPTION:Build your cooking skills and socialize with other kids as we make a new recipe each session.  
URL:scls.digitalbranch.org/api/event_export_ics_controlle
LOCATION:Warren Township branch
UID:30756
END:VEVENT
END:VCALENDAR
