BEGIN:VCALENDAR
VERSION:2.0
PRODID:-//SCLS//NONSGML v1.0//EN
METHOD:PUBLISH
BEGIN:VEVENT
DTSTART;TZID=America/New_York:20260425T110000
DTEND;TZID=America/New_York:20260425T113000
DTSTAMP:20260422T011339
CREATED:20260422T011339-14400
SUMMARY:Story & Craft 
DESCRIPTION:Stories followed by a hands-on related craft that you can take home or make at the library. 
URL:scls.digitalbranch.org/api/event_export_ics_controlle
LOCATION:Peapack and Gladstone branch
UID:30617
END:VEVENT
END:VCALENDAR
