BEGIN:VCALENDAR
VERSION:2.0
PRODID:-//SCLS//NONSGML v1.0//EN
METHOD:PUBLISH
BEGIN:VEVENT
DTSTART;TZID=America/New_York:20260421T180000
DTEND;TZID=America/New_York:20260421T190000
DTSTAMP:20260423T040407
CREATED:20260423T040407-14400
SUMMARY:Retirement Planning Seminar
DESCRIPTION:Learn the ins and outs about planning for retirement including common misconceptions\, financial strategies to make your nest egg last\, ways to deal with market volatility - and more!
URL:scls.digitalbranch.org/api/event_export_ics_controlle
LOCATION:Hillsborough branch
UID:30593
END:VEVENT
END:VCALENDAR
