BEGIN:VCALENDAR
VERSION:2.0
PRODID:-//SCLS//NONSGML v1.0//EN
METHOD:PUBLISH
BEGIN:VEVENT
DTSTART;TZID=America/New_York:20260429T183000
DTEND;TZID=America/New_York:20260429T193000
DTSTAMP:20260423T114427
CREATED:20260423T114427-14400
SUMMARY:Financial Fitness - The Power of Budgeting
DESCRIPTION:Budgeting involves figuring out how much money you have coming in\, how much you need to spend on things like bills\, how much you want to save\, and how much you spend on things you enjoy.
URL:scls.digitalbranch.org/api/event_export_ics_controlle
LOCATION:Hillsborough branch
UID:30135
END:VEVENT
END:VCALENDAR
