BEGIN:VCALENDAR
VERSION:2.0
PRODID:-//SCLS//NONSGML v1.0//EN
METHOD:PUBLISH
BEGIN:VEVENT
DTSTART;TZID=America/New_York:20260422T183000
DTEND;TZID=America/New_York:20260422T193000
DTSTAMP:20260421T042434
CREATED:20260421T042434-14400
SUMMARY:Simplify Your Spending and Saving Strategies
DESCRIPTION:Take control of your financial future. This program can help you bring balance to your budget.
URL:scls.digitalbranch.org/api/event_export_ics_controlle
LOCATION:Montgomery branch
UID:30134
END:VEVENT
END:VCALENDAR
