BEGIN:VCALENDAR
VERSION:2.0
PRODID:-//SCLS//NONSGML v1.0//EN
METHOD:PUBLISH
BEGIN:VEVENT
DTSTART;TZID=America/New_York:20260427T160000
DTEND;TZID=America/New_York:20260427T170000
DTSTAMP:20260424T140540
CREATED:20260424T140540-14400
SUMMARY:Read to a Therapy Dog: Duke
DESCRIPTION:Practice your reading skills by reading a story to a certified therapy dog. Registration is required by visiting the Youth Services desk or calling 908-458-8435. 
URL:scls.digitalbranch.org/api/event_export_ics_controlle
LOCATION:North Plainfield branch
UID:29978
END:VEVENT
END:VCALENDAR
