BEGIN:VCALENDAR
VERSION:2.0
PRODID:-//SCLS//NONSGML v1.0//EN
METHOD:PUBLISH
BEGIN:VEVENT
DTSTART;TZID=America/New_York:20260505T100000
DTEND;TZID=America/New_York:20260505T110000
DTSTAMP:20260423T051617
CREATED:20260423T051617-14400
SUMMARY:Drop-In Tech Help
DESCRIPTION:Connect with one of our library staff members to get answers to your questions about technology. 
URL:scls.digitalbranch.org/api/event_export_ics_controlle
LOCATION:Bridgewater branch
UID:29944
END:VEVENT
END:VCALENDAR
