BEGIN:VCALENDAR
VERSION:2.0
PRODID:-//SCLS//NONSGML v1.0//EN
METHOD:PUBLISH
BEGIN:VEVENT
DTSTART;TZID=America/New_York:20260504T110000
DTEND;TZID=America/New_York:20260504T120000
DTSTAMP:20260423T051556
CREATED:20260423T051556-14400
SUMMARY:Computer Basics
DESCRIPTION:Introduction to Google Maps. The library will provide laptops for instruction.  
URL:scls.digitalbranch.org/api/event_export_ics_controlle
LOCATION:Bridgewater branch
UID:29943
END:VEVENT
END:VCALENDAR
