BEGIN:VCALENDAR
VERSION:2.0
PRODID:-//SCLS//NONSGML v1.0//EN
METHOD:PUBLISH
BEGIN:VEVENT
DTSTART;TZID=America/New_York:20260425T140000
DTEND;TZID=America/New_York:20260425T163000
DTSTAMP:20260423T143654
CREATED:20260423T143654-14400
SUMMARY:An Introduction to Rigid Heddle Weaving
DESCRIPTION:Explore the basics of weaving in this beginner-friendly workshop. 
URL:scls.digitalbranch.org/api/event_export_ics_controlle
LOCATION:Bridgewater branch
UID:29796
END:VEVENT
END:VCALENDAR
