BEGIN:VCALENDAR
VERSION:2.0
PRODID:-//SCLS//NONSGML v1.0//EN
METHOD:PUBLISH
BEGIN:VEVENT
DTSTART;TZID=America/New_York:20260423T103000
DTEND;TZID=America/New_York:20260423T123000
DTSTAMP:20260423T064123
CREATED:20260423T064123-14400
SUMMARY:Coffee and Chess
DESCRIPTION:Play chess and drink coffee. Basic chess boards will be provided\, but feel free to bring your own. This is a drop-in open play\, there will be no guided instruction.
URL:scls.digitalbranch.org/api/event_export_ics_controlle
LOCATION:Bridgewater branch
UID:29794
END:VEVENT
END:VCALENDAR
