BEGIN:VCALENDAR
VERSION:2.0
PRODID:-//SCLS//NONSGML v1.0//EN
METHOD:PUBLISH
BEGIN:VEVENT
DTSTART;TZID=America/New_York:20260424T163000
DTEND;TZID=America/New_York:20260424T173000
DTSTAMP:20260423T073726
CREATED:20260423T073726-14400
SUMMARY:Teen Book Club
DESCRIPTION:Make new bookish friends during a group discussion of "Breath of the Dragon" alongside snacks and freebies.
URL:scls.digitalbranch.org/api/event_export_ics_controlle
LOCATION:Montgomery branch
UID:29710
END:VEVENT
END:VCALENDAR
