BEGIN:VCALENDAR
VERSION:2.0
PRODID:-//SCLS//NONSGML v1.0//EN
METHOD:PUBLISH
BEGIN:VEVENT
DTSTART;TZID=America/New_York:20260422T180000
DTEND;TZID=America/New_York:20260422T190000
DTSTAMP:20260421T055150
CREATED:20260421T055150-14400
SUMMARY:Creating Beautiful, Successful Gardens with Native Plants
DESCRIPTION:In this program\, Rachel Mackow of Wild Ridge Plants will share how to choose the right native plants for your garden and landscape. 
URL:scls.digitalbranch.org/api/event_export_ics_controlle
LOCATION:North Plainfield branch
UID:29663
END:VEVENT
END:VCALENDAR
