BEGIN:VCALENDAR
VERSION:2.0
PRODID:-//SCLS//NONSGML v1.0//EN
METHOD:PUBLISH
BEGIN:VEVENT
DTSTART;TZID=America/New_York:20260423T180000
DTEND;TZID=America/New_York:20260423T190000
DTSTAMP:20260421T235136
CREATED:20260421T235136-14400
SUMMARY:Cheese 101: A Guided Tasting & Talk
DESCRIPTION:Discover a fun and flavorful introduction to the world of cheese! In this interactive workshop\, you’ll explore the history\, science\, and craft behind cheese making—from milk to maturation. 
URL:scls.digitalbranch.org/api/event_export_ics_controlle
LOCATION:Peapack and Gladstone branch
UID:29605
END:VEVENT
END:VCALENDAR
