BEGIN:VCALENDAR
VERSION:2.0
PRODID:-//SCLS//NONSGML v1.0//EN
METHOD:PUBLISH
BEGIN:VEVENT
DTSTART;TZID=America/New_York:20260423T103000
DTEND;TZID=America/New_York:20260423T113000
DTSTAMP:20260423T064001
CREATED:20260423T064001-14400
SUMMARY:Baby Playdate
DESCRIPTION:An opportunity for parents and caregivers to socialize while your babies engage with toys\, books\, and gentle music.
URL:scls.digitalbranch.org/api/event_export_ics_controlle
LOCATION:Montgomery branch
UID:29604
END:VEVENT
END:VCALENDAR
