BEGIN:VCALENDAR
VERSION:2.0
PRODID:-//SCLS//NONSGML v1.0//EN
METHOD:PUBLISH
BEGIN:VEVENT
DTSTART;TZID=America/New_York:20260427T171500
DTEND;TZID=America/New_York:20260427T180000
DTSTAMP:20260426T003036
CREATED:20260426T003036-14400
SUMMARY:Art Academy
DESCRIPTION:Program entry will be granted on a first come\, first serve basis. Check-in begins 15 minutes prior to the start of the program.
URL:scls.digitalbranch.org/api/event_export_ics_controlle
LOCATION:Montgomery branch
UID:29541
END:VEVENT
END:VCALENDAR
