BEGIN:VCALENDAR
VERSION:2.0
PRODID:-//SCLS//NONSGML v1.0//EN
METHOD:PUBLISH
BEGIN:VEVENT
DTSTART;TZID=America/New_York:20260425T103000
DTEND;TZID=America/New_York:20260425T110000
DTSTAMP:20260423T142954
CREATED:20260423T142954-14400
SUMMARY:Family Storytime
DESCRIPTION:Explore American Sign Language alongside Ms. Katie through stories\, signs\, and activities.
URL:scls.digitalbranch.org/api/event_export_ics_controlle
LOCATION:Montgomery branch
UID:29540
END:VEVENT
END:VCALENDAR
