BEGIN:VCALENDAR
VERSION:2.0
PRODID:-//SCLS//NONSGML v1.0//EN
METHOD:PUBLISH
BEGIN:VEVENT
DTSTART;TZID=America/New_York:20260427T173000
DTEND;TZID=America/New_York:20260427T183000
DTSTAMP:20260426T002730
CREATED:20260426T002730-14400
SUMMARY:Tiny Art Show Kickoff
DESCRIPTION:Display your artistic talents in our Tiny Art Show! Come to the Kickoff to work on your masterpiece\, or pick up a canvas between April 27 and May 20 to complete at home. 
URL:scls.digitalbranch.org/api/event_export_ics_controlle
LOCATION:Bridgewater branch
UID:29482
END:VEVENT
END:VCALENDAR
