BEGIN:VCALENDAR
VERSION:2.0
PRODID:-//SCLS//NONSGML v1.0//EN
METHOD:PUBLISH
BEGIN:VEVENT
DTSTART;TZID=America/New_York:20260421T103000
DTEND;TZID=America/New_York:20260421T110000
DTSTAMP:20260421T114610
CREATED:20260421T114610-14400
SUMMARY:Mindful Minis
DESCRIPTION:Embark on a mindfulness journey at the library!  
URL:scls.digitalbranch.org/api/event_export_ics_controlle
LOCATION:Bridgewater branch
UID:29481
END:VEVENT
END:VCALENDAR
