BEGIN:VCALENDAR
VERSION:2.0
PRODID:-//SCLS//NONSGML v1.0//EN
METHOD:PUBLISH
BEGIN:VEVENT
DTSTART;TZID=America/New_York:20260421T183000
DTEND;TZID=America/New_York:20260421T193000
DTSTAMP:20260421T130951
CREATED:20260421T130951-14400
SUMMARY:Teen Volunteer Night     
DESCRIPTION:Make a difference by volunteering at the library. 
URL:scls.digitalbranch.org/api/event_export_ics_controlle
LOCATION:Bridgewater branch
UID:29453
END:VEVENT
END:VCALENDAR
