BEGIN:VCALENDAR
VERSION:2.0
PRODID:-//SCLS//NONSGML v1.0//EN
METHOD:PUBLISH
BEGIN:VEVENT
DTSTART;TZID=America/New_York:20260421T183000
DTEND;TZID=America/New_York:20260421T193000
DTSTAMP:20260421T114256
CREATED:20260421T114256-14400
SUMMARY:Popular Fiction Book Discussion
DESCRIPTION:This month's popular fiction title is "The Wedding People" by Alison Espach. This in-person book discussion will be moderated by Bridgewater librarian Yvonne Selander.
URL:scls.digitalbranch.org/api/event_export_ics_controlle
LOCATION:Bridgewater branch
UID:29452
END:VEVENT
END:VCALENDAR
