BEGIN:VCALENDAR
VERSION:2.0
PRODID:-//SCLS//NONSGML v1.0//EN
METHOD:PUBLISH
BEGIN:VEVENT
DTSTART;TZID=America/New_York:20260427T103000
DTEND;TZID=America/New_York:20260427T110000
DTSTAMP:20260423T155139
CREATED:20260423T155139-14400
SUMMARY:Preschool Storytime
DESCRIPTION:An interactive program that fosters early literacy skills through books\, songs\, and activities.
URL:scls.digitalbranch.org/api/event_export_ics_controlle
LOCATION:Bridgewater branch
UID:29310
END:VEVENT
END:VCALENDAR
