BEGIN:VCALENDAR
VERSION:2.0
PRODID:-//SCLS//NONSGML v1.0//EN
METHOD:PUBLISH
BEGIN:VEVENT
DTSTART;TZID=America/New_York:20260423T111500
DTEND;TZID=America/New_York:20260423T114500
DTSTAMP:20260423T064001
CREATED:20260423T064001-14400
SUMMARY:Baby Storytime
DESCRIPTION:This interactive program is filled with brain-building rhymes\, movement\, songs\, and stories.
URL:scls.digitalbranch.org/api/event_export_ics_controlle
LOCATION:Bridgewater branch
UID:29308
END:VEVENT
END:VCALENDAR
