BEGIN:VCALENDAR
VERSION:2.0
PRODID:-//SCLS//NONSGML v1.0//EN
METHOD:PUBLISH
BEGIN:VEVENT
DTSTART;TZID=America/New_York:20260423T101500
DTEND;TZID=America/New_York:20260423T104500
DTSTAMP:20260423T062930
CREATED:20260423T062930-14400
SUMMARY:Baby Storytime
DESCRIPTION:This interactive program is filled with brain-building rhymes\, movement\, songs\, and stories.
URL:scls.digitalbranch.org/api/event_export_ics_controlle
LOCATION:Bridgewater branch
UID:29307
END:VEVENT
END:VCALENDAR
